BEGIN:VCALENDAR
VERSION:2.0
PRODID:-//Adevaratii VeloPrieteni - ECPv5.3.2.2//NONSGML v1.0//EN
CALSCALE:GREGORIAN
METHOD:PUBLISH
X-WR-CALNAME:Adevaratii VeloPrieteni
X-ORIGINAL-URL:https://www.adevaratiiveloprieteni.ro
X-WR-CALDESC:Events for Adevaratii VeloPrieteni
BEGIN:VTIMEZONE
TZID:Europe/Bucharest
BEGIN:DAYLIGHT
TZOFFSETFROM:+0200
TZOFFSETTO:+0300
TZNAME:EEST
DTSTART:20230326T010000
END:DAYLIGHT
BEGIN:STANDARD
TZOFFSETFROM:+0300
TZOFFSETTO:+0200
TZNAME:EET
DTSTART:20231029T010000
END:STANDARD
END:VTIMEZONE
BEGIN:VEVENT
DTSTART;TZID=Europe/Bucharest:20230601T053000
DTEND;TZID=Europe/Bucharest:20230605T223000
DTSTAMP:20260424T115318
CREATED:20230227T232439Z
LAST-MODIFIED:20230228T091036Z
UID:7795-1685597400-1686004200@www.adevaratiiveloprieteni.ro
SUMMARY:Hai cu Bicicleta in VAMA (editia a 9-a)
DESCRIPTION:Va invitam in perioada 1-5 iunie 2023 (Ziua Copilului + Rusalii)\, sa pedalam din nou impreuna\, pentru a 9-a oara catre mare\, catre Vama Veche.\nLocuri disponibile: 50.\nObservatie: In afara acestor 50 de locuri\, mai pot participa persoane care isi asigura pe cont propriu atat transportul\, cat si cazarea in primele 2 nopti\, urmand sa plateasca doar taxa pentru campare in ultimele 2 nopti\, si eventual\, transportul bagajului (100 lei).\n\nTaxa UNICA pentru cele 50 de locuri\, in valoare de 450 lei\, include:\n– 2 nopti de cazare: Mamaia (Hostel Casino Nord – camere duble cu baie comuna)\n– 2 nopti de campare: Vama Veche (Camping Marina Park)\n– biletele de tren: Bucuresti – Cernavoda si Mangalia – Bucuresti\n– transportul bicicletei: Bucuresti – Cernavoda si Mangalia – Bucuresti (include si taxele de traversare a podurilor dunarene dus-intors)\n– transportul bagajului (inclusiv cort): Cernavoda – Mamaia – Vama Veche – Mangalia\nTotusi\, daca sunt participanti care nu vor pleca din Bucuresti si isi asigura separat transportul cu trenul\, din taxa de 450 lei\, vor fi scazute doar costurile aferente biletelor de tren\, restul serviciilor fiind calculate si negociate cu prestatorii acestora pentru 50 de participanti (cazarea\, camparea si transportul cu autocamioneta). \nObservatie: Daca pana la finalizarea locurilor sau a perioadei de inscriere\, respectiv pana la achizitionarea biletelor de tren\, CFR-ul va anunta vreo crestere semnificativa a preturilor de transport\, veti fi informati pentru plata diferentei. \n\nTransportul persoanelor se va face cu trenul (Bucuresti – Cernavoda si Mangalia – Bucuresti)\, iar cel al bicicletelor cu o camioneta (care nu va fi si pe traseu\, dar care poate transporta contracost bagajul intre locurile de cazare si campare). Bagajele vor fi transportate in tren.\nPentru transportul bicicletei\, nu exista optiunea doar dus sau doar intors.\nDe asemenea\, pe traseu\, in cele 5 zile\, camioneta va transporta bagajele (inclusiv corturile).\nLa aceasta editie\, exista si perioada de preinscriere. Preinscrierea consta in taxa unui avans de 150 lei din taxa de participare\, pana cel tarziu in data de 30 martie 2023\, prin care locul este asigurat.\nPentru preinscriere / inscriere\, va rugam sa completati formularul si sa confirmati plata pana la data de 30 aprilie 2023.\nPlata sumei se va face in Asociației Adevărații Veloprieteni România\, IBAN RO02 RNCB 0085 1536 8704 0001\, BCR Bucuresti.\nConfirmarea platii se face la adresa de email: cicloturism@adevaratiiveloprieteni.ro\nLocul de întâlnire: Gara Bucuresti Nord (parcarea din fata parcului garii)\nOra de întâlnire: 05.30 (pentru predarea bicicletelor)\nOra de plecare cu trenul: 06.20\nPrima zi (joi\, 1 iunie 2023):\n– cu trenul R 8001 de la Bucuresti la Cernavoda (06.20-09.30)\n– traseu cu bicicleta: Cernavoda – Mamaia (75 km cu diferenta de nivel de aprox. 350 m)\, https://www.strava.com/routes/3029449167643913704\n– pauza de hidratare-energizare: Kaufland – Medgidia\n– cazare la Hostel Nord Casino din Mamaia\nA doua zi (vineri\, 2 iunie): traseu optional sau timp liber la dispozitie in Mamaia\n– ora de plecare pe traseu: 10.00\n– traseu: Mamaia – Cetatea Histria – Mamaia (94 km cu diferenta de nivel de aprox. 350 m)\, https://www.strava.com/routes/3065572277384250224\n– vizitare: Cetatea Histria\n– pauza de masa: Cetatea Histria\n– cazare la Hostel Nord Casino din Mamaia\nA treia zi (sambata\, 3 iunie):\n– ora de plecare: 10.00\n– traseu: Mamaia – Constanta – statiuni – Vama Veche (70 km cu diferenta de nivel de aprox. 350 m)\, https://www.strava.com/routes/3029450147799871498\n– vizitare: statiunile litoralului\n– masa de pranz: intr-o statiune\, functie de ritmul grupului\n– FOTOGRAFIE DE GRUP LA INTRAREA IN VAMA VECHE\n– campare: in Vama Veche la Marina Park\n– cina si distractie: Vama Veche (la alegerea fiecaruia)\nA patra zi (duminica\, 4 iunie): trasee optionale in Bulgaria sau timp liber la dispozitie in Vama Veche \n– optional\, prima varianta\, un traseu de 42 km din Vama Veche pana la Krapets (Bulgaria) si retur\, vom lua masa la un restaurant in Krapets (start la ora de plecare: 10.00)\, https://www.strava.com/routes/2925761879272601802\n\n– optional\, a doua varianta\, un traseu de 122 km\, Vama Veche – Dalboka – Cap Kaliakra – Vama Veche\, vom lua masa la o taverna in Dalboka (ora de plecare: 09.00)\, https://www.strava.com/routes/3065574122079864688\n\n– campare: in Vama Veche la Marina Park\n– cina si distractie: Vama Veche (la alegerea fiecaruia)\nA cincea zi (luni\, 5 iunie): zi de relaxare in Vama Veche\n\n\n– ora de plecare catre Mangalia: 17.00\n– traseu: Vama Veche – Mangalia (10 km): https://www.strava.com/routes/3029450803674299402\n– cu trenul R8396/IR1884 de la Mangalia la București Nord (18.40-22.30)\n– preluarea bicicletelor de catre participanti.\n\nVa recomandam sa aveti apa si ceva mancare asupra voastra\, echipamentul de campare (aici ne putem combina la cort sa nu caram toti – conform optiunilor rezultate din formularul de inscriere).\nDe asemenea\, trebuie sa aveți cele necesare pentru un traseu cicloturistic de 5 zile cu un total de 150 km (plus maximum 215 km in traseele optionale): bicicleta “in regula”\, scule si cele necesare in caz de pana\, lumini\, eventual\, pelerina de ploaie.\nNu uitati sa aduceti completata declaratia de participare pe propria raspundere (daca este cazul cea pentru minori) – tipizatele vor fi trimise fiecarui participant pe adresa de email mentionata in formularul de inscriere.\nPentru evenimente similare\, urmariti grupul “Adevărații VeloPrieteni”: https://www.facebook.com/groups/velofriends\nPagina evenimentului: https://www.facebook.com/haicubicicletainvama\nVa asteptam cu drag si…dor de Vama Veche!
URL:https://www.adevaratiiveloprieteni.ro/event/hbv9/
ORGANIZER;CN="Adevaratii%20VeloPrieteni":MAILTO:info@adevaratiiveloprieteni.ro
END:VEVENT
END:VCALENDAR