BEGIN:VCALENDAR
VERSION:2.0
PRODID:-//Adevaratii VeloPrieteni - ECPv5.3.2.2//NONSGML v1.0//EN
CALSCALE:GREGORIAN
METHOD:PUBLISH
X-WR-CALNAME:Adevaratii VeloPrieteni
X-ORIGINAL-URL:https://www.adevaratiiveloprieteni.ro
X-WR-CALDESC:Events for Adevaratii VeloPrieteni
BEGIN:VTIMEZONE
TZID:Europe/Bucharest
BEGIN:DAYLIGHT
TZOFFSETFROM:+0200
TZOFFSETTO:+0300
TZNAME:EEST
DTSTART:20240331T010000
END:DAYLIGHT
BEGIN:STANDARD
TZOFFSETFROM:+0300
TZOFFSETTO:+0200
TZNAME:EET
DTSTART:20241027T010000
END:STANDARD
END:VTIMEZONE
BEGIN:VEVENT
DTSTART;TZID=Europe/Bucharest:20240324T083000
DTEND;TZID=Europe/Bucharest:20240324T190000
DTSTAMP:20260422T211127
CREATED:20240215T195726Z
LAST-MODIFIED:20240215T195726Z
UID:7977-1711269000-1711306800@www.adevaratiiveloprieteni.ro
SUMMARY:Prima Plimbare a Primăverii (a 11-a ediție)
DESCRIPTION:Duminică\, 24 martie 2024\, cu ocazia instalării primăverii astronomice\, vă invităm la cea de-a 11 ediție a Primei Plimbări a Primăverii\, o plimbare lejeră în afara capitalei\, pe un traseu accesibil tuturor adevăraților veloprieteni.\nTraseul acestei ediții: https://www.strava.com/routes/3193296760413163746 (85 km\, doar asfalt).\nLocul de întâlnire: Eroii Revoluției (lângă intrarea la metrou)\nOra de întâlnire: 08.45\nOra de plecare: 09.00\nBiciclete recomandate: MTB\, treking\, gravel\, cursieră (în stare corespunzătoare de funcționare).\nTraseul este unul lejer\, ritmul fiind adaptat întregului grup. La jumătatea traseului\, la km 42\, în pădure la Comana\, ne vom opri la un picnic\, timp de vreo 2 ore\, după care vom pedala către București. În cele 2 ore\, cine dorește poate face un tur fie prin pădure\, fie pe asfalt până la Vlad-Țepeș – Mihai Bravu și înapoi.\n\nEveniment organizat și susținut de “Adevărații VeloPrieteni“: https://www.facebook.com/groups/velofriends\nVă așteptăm cu drag!
URL:https://www.adevaratiiveloprieteni.ro/event/ppp-11/
END:VEVENT
END:VCALENDAR