BEGIN:VCALENDAR
VERSION:2.0
PRODID:-//Adevaratii VeloPrieteni - ECPv5.3.2.2//NONSGML v1.0//EN
CALSCALE:GREGORIAN
METHOD:PUBLISH
X-WR-CALNAME:Adevaratii VeloPrieteni
X-ORIGINAL-URL:https://www.adevaratiiveloprieteni.ro
X-WR-CALDESC:Events for Adevaratii VeloPrieteni
BEGIN:VTIMEZONE
TZID:Europe/Bucharest
BEGIN:DAYLIGHT
TZOFFSETFROM:+0200
TZOFFSETTO:+0300
TZNAME:EEST
DTSTART:20230326T010000
END:DAYLIGHT
BEGIN:STANDARD
TZOFFSETFROM:+0300
TZOFFSETTO:+0200
TZNAME:EET
DTSTART:20231029T010000
END:STANDARD
END:VTIMEZONE
BEGIN:VEVENT
DTSTART;TZID=Europe/Bucharest:20230325T084500
DTEND;TZID=Europe/Bucharest:20230325T190000
DTSTAMP:20260422T133931
CREATED:20230207T222828Z
LAST-MODIFIED:20230315T105619Z
UID:7787-1679733900-1679770800@www.adevaratiiveloprieteni.ro
SUMMARY:Prima Plimbare a Primăverii (a 10-a ediție)
DESCRIPTION:Sâmbătă\, 25 martie 2023\, cu ocazia instalării primăverii astronomice\, vă invităm la cea de-a 10 ediție a Primei Plimbări a Primăverii\, o plimbare lejeră în afara capitalei\, pe un traseu accesibil tuturor adevăraților veloprieteni.\nObservație: Seara\, când ajungem în București\, cei care doresc vor fi invitați să participe la plimbarea dedicată Orei Pământului.\n\nFiind o ediție aniversară\, va fi un singur traseu: https://www.strava.com/routes/3058166340302806852 (84 km\, doar asfalt).\nLocul de întâlnire: Eroii Revoluției (lângă intrarea la metrou)\nOra de întâlnire: 08.45\nOra de plecare: 09.00\nBiciclete recomandate: MTB\, treking\, gravel\, cursieră (în stare corespunzătoare de funcționare).\nTraseul este unul lejer\, ritmul fiind adaptat întregului grup. La jumătatea traseului\, la km 42\, în pădure la Comana\, ne vom opri la un picnic\, timp de vreo 2 ore\, după care vom pedala către București.\n\nEveniment organizat și susținut de “Adevărații VeloPrieteni“: https://www.facebook.com/groups/velofriends\nVă așteptăm cu drag!
URL:https://www.adevaratiiveloprieteni.ro/event/ppp10/
END:VEVENT
END:VCALENDAR